BEGIN:VCALENDAR
VERSION:2.0
PRODID:-//County Line Hall - ECPv6.15.20//NONSGML v1.0//EN
CALSCALE:GREGORIAN
METHOD:PUBLISH
X-WR-CALNAME:County Line Hall
X-ORIGINAL-URL:https://countylinehall.com
X-WR-CALDESC:Events for County Line Hall
REFRESH-INTERVAL;VALUE=DURATION:PT1H
X-Robots-Tag:noindex
X-PUBLISHED-TTL:PT1H
BEGIN:VTIMEZONE
TZID:UTC
BEGIN:STANDARD
TZOFFSETFROM:+0000
TZOFFSETTO:+0000
TZNAME:UTC
DTSTART:20200101T000000
END:STANDARD
END:VTIMEZONE
BEGIN:VEVENT
DTSTART;VALUE=DATE:20211106
DTEND;VALUE=DATE:20211107
DTSTAMP:20260421T222902
CREATED:20210708T120700Z
LAST-MODIFIED:20210709T002019Z
UID:206-1636156800-1636243199@countylinehall.com
SUMMARY:Kiwanis Fundraiser
DESCRIPTION:
URL:https://countylinehall.com/event/kiwanis-fundraiser/
LOCATION:County Line Hall
END:VEVENT
BEGIN:VEVENT
DTSTART;TZID=UTC:20211112T150000
DTEND;TZID=UTC:20211112T200000
DTSTAMP:20260421T222902
CREATED:20210518T150146Z
LAST-MODIFIED:20210518T150146Z
UID:162-1636729200-1636747200@countylinehall.com
SUMMARY:Gun Show
DESCRIPTION:
URL:https://countylinehall.com/event/gun-show/
LOCATION:County Line Hall
END:VEVENT
BEGIN:VEVENT
DTSTART;TZID=UTC:20211113T080000
DTEND;TZID=UTC:20211113T150000
DTSTAMP:20260421T222902
CREATED:20210518T150311Z
LAST-MODIFIED:20210518T150311Z
UID:165-1636790400-1636815600@countylinehall.com
SUMMARY:Gun Show
DESCRIPTION:
URL:https://countylinehall.com/event/gun-show-2/
LOCATION:County Line Hall
END:VEVENT
BEGIN:VEVENT
DTSTART;VALUE=DATE:20211119
DTEND;VALUE=DATE:20211122
DTSTAMP:20260421T222902
CREATED:20210713T192752Z
LAST-MODIFIED:20210713T192752Z
UID:223-1637280000-1637539199@countylinehall.com
SUMMARY:Reserved
DESCRIPTION:
URL:https://countylinehall.com/event/reserved-2/
LOCATION:County Line Hall
END:VEVENT
BEGIN:VEVENT
DTSTART;VALUE=DATE:20211124
DTEND;VALUE=DATE:20211125
DTSTAMP:20260421T222902
CREATED:20211124T013204Z
LAST-MODIFIED:20211124T013204Z
UID:286-1637712000-1637798399@countylinehall.com
SUMMARY:Small Room Reserved
DESCRIPTION:
URL:https://countylinehall.com/event/small-room-reserved-15/
LOCATION:County Line Hall
END:VEVENT
END:VCALENDAR