BEGIN:VCALENDAR
VERSION:2.0
PRODID:-//County Line Hall - ECPv6.15.20//NONSGML v1.0//EN
CALSCALE:GREGORIAN
METHOD:PUBLISH
X-ORIGINAL-URL:https://countylinehall.com
X-WR-CALDESC:Events for County Line Hall
REFRESH-INTERVAL;VALUE=DURATION:PT1H
X-Robots-Tag:noindex
X-PUBLISHED-TTL:PT1H
BEGIN:VTIMEZONE
TZID:UTC
BEGIN:STANDARD
TZOFFSETFROM:+0000
TZOFFSETTO:+0000
TZNAME:UTC
DTSTART:20200101T000000
END:STANDARD
END:VTIMEZONE
BEGIN:VEVENT
DTSTART;TZID=UTC:20211204T090000
DTEND;TZID=UTC:20211204T140000
DTSTAMP:20260421T210759
CREATED:20210916T140011Z
LAST-MODIFIED:20210916T140011Z
UID:244-1638608400-1638626400@countylinehall.com
SUMMARY:Indoor Winter Market
DESCRIPTION:
URL:https://countylinehall.com/event/indoor-winter-market/
LOCATION:County Line Hall
END:VEVENT
BEGIN:VEVENT
DTSTART;VALUE=DATE:20211205
DTEND;VALUE=DATE:20211206
DTSTAMP:20260421T210759
CREATED:20210723T152651Z
LAST-MODIFIED:20210723T152651Z
UID:228-1638662400-1638748799@countylinehall.com
SUMMARY:Small Room Reserved
DESCRIPTION:
URL:https://countylinehall.com/event/small-room-reserved-9/
LOCATION:County Line Hall
END:VEVENT
BEGIN:VEVENT
DTSTART;VALUE=DATE:20211210
DTEND;VALUE=DATE:20211211
DTSTAMP:20260421T210759
CREATED:20211207T020958Z
LAST-MODIFIED:20211207T020958Z
UID:291-1639094400-1639180799@countylinehall.com
SUMMARY:Small Room Reserved
DESCRIPTION:
URL:https://countylinehall.com/event/small-room-reserved-16/
LOCATION:County Line Hall
END:VEVENT
BEGIN:VEVENT
DTSTART;VALUE=DATE:20211218
DTEND;VALUE=DATE:20211219
DTSTAMP:20260421T210759
CREATED:20210903T180626Z
LAST-MODIFIED:20210903T180626Z
UID:237-1639785600-1639871999@countylinehall.com
SUMMARY:Midwest Dance Center-Reserved
DESCRIPTION:
URL:https://countylinehall.com/event/midwest-dance-center-reserved/
LOCATION:County Line Hall
END:VEVENT
BEGIN:VEVENT
DTSTART;VALUE=DATE:20211219
DTEND;VALUE=DATE:20211220
DTSTAMP:20260421T210759
CREATED:20210916T135846Z
LAST-MODIFIED:20210916T135846Z
UID:242-1639872000-1639958399@countylinehall.com
SUMMARY:Small Room Reserved
DESCRIPTION:
URL:https://countylinehall.com/event/small-room-reserved-11/
LOCATION:County Line Hall
END:VEVENT
END:VCALENDAR