BEGIN:VCALENDAR
VERSION:2.0
PRODID:-//County Line Hall - ECPv6.15.20//NONSGML v1.0//EN
CALSCALE:GREGORIAN
METHOD:PUBLISH
X-WR-CALNAME:County Line Hall
X-ORIGINAL-URL:https://countylinehall.com
X-WR-CALDESC:Events for County Line Hall
REFRESH-INTERVAL;VALUE=DURATION:PT1H
X-Robots-Tag:noindex
X-PUBLISHED-TTL:PT1H
BEGIN:VTIMEZONE
TZID:UTC
BEGIN:STANDARD
TZOFFSETFROM:+0000
TZOFFSETTO:+0000
TZNAME:UTC
DTSTART:20210101T000000
END:STANDARD
END:VTIMEZONE
BEGIN:VEVENT
DTSTART;VALUE=DATE:20220101
DTEND;VALUE=DATE:20220102
DTSTAMP:20260421T191944
CREATED:20211025T123950Z
LAST-MODIFIED:20211025T123950Z
UID:258-1640995200-1641081599@countylinehall.com
SUMMARY:Reserved
DESCRIPTION:
URL:https://countylinehall.com/event/reserved-3/
END:VEVENT
BEGIN:VEVENT
DTSTART;TZID=UTC:20220108T140000
DTEND;TZID=UTC:20220108T170000
DTSTAMP:20260421T191944
CREATED:20211025T124117Z
LAST-MODIFIED:20211025T124117Z
UID:262-1641650400-1641661200@countylinehall.com
SUMMARY:YFA Bags Tournament
DESCRIPTION:
URL:https://countylinehall.com/event/yfa-bags-tournament/
LOCATION:County Line Hall
END:VEVENT
BEGIN:VEVENT
DTSTART;VALUE=DATE:20220119
DTEND;VALUE=DATE:20220124
DTSTAMP:20260421T191944
CREATED:20211025T124038Z
LAST-MODIFIED:20211025T124038Z
UID:260-1642550400-1642982399@countylinehall.com
SUMMARY:Reserved
DESCRIPTION:
URL:https://countylinehall.com/event/reserved-4/
LOCATION:County Line Hall
END:VEVENT
BEGIN:VEVENT
DTSTART;TZID=UTC:20220129T120000
DTEND;TZID=UTC:20220129T170000
DTSTAMP:20260421T191944
CREATED:20211111T132856Z
LAST-MODIFIED:20211111T132856Z
UID:271-1643457600-1643475600@countylinehall.com
SUMMARY:Small Room Reserved
DESCRIPTION:
URL:https://countylinehall.com/event/small-room-reserved-13/
LOCATION:County Line Hall
END:VEVENT
END:VCALENDAR