BEGIN:VCALENDAR
VERSION:2.0
PRODID:-//County Line Hall - ECPv6.15.20//NONSGML v1.0//EN
CALSCALE:GREGORIAN
METHOD:PUBLISH
X-WR-CALNAME:County Line Hall
X-ORIGINAL-URL:https://countylinehall.com
X-WR-CALDESC:Events for County Line Hall
REFRESH-INTERVAL;VALUE=DURATION:PT1H
X-Robots-Tag:noindex
X-PUBLISHED-TTL:PT1H
BEGIN:VTIMEZONE
TZID:UTC
BEGIN:STANDARD
TZOFFSETFROM:+0000
TZOFFSETTO:+0000
TZNAME:UTC
DTSTART:20210101T000000
END:STANDARD
END:VTIMEZONE
BEGIN:VEVENT
DTSTART;TZID=UTC:20220304T150000
DTEND;TZID=UTC:20220304T200000
DTSTAMP:20260421T162250
CREATED:20211230T150144Z
LAST-MODIFIED:20211230T150144Z
UID:298-1646406000-1646424000@countylinehall.com
SUMMARY:Freedom Firearms Gun Show
DESCRIPTION:
URL:https://countylinehall.com/event/freedom-firearms-gun-show/
LOCATION:County Line Hall
END:VEVENT
BEGIN:VEVENT
DTSTART;TZID=UTC:20220305T080000
DTEND;TZID=UTC:20220305T150000
DTSTAMP:20260421T162250
CREATED:20211230T150244Z
LAST-MODIFIED:20211230T150244Z
UID:300-1646467200-1646492400@countylinehall.com
SUMMARY:Freedom Firearms Gun Show
DESCRIPTION:
URL:https://countylinehall.com/event/freedom-firearms-gun-show-2/
LOCATION:County Line Hall
END:VEVENT
BEGIN:VEVENT
DTSTART;VALUE=DATE:20220306
DTEND;VALUE=DATE:20220307
DTSTAMP:20260421T162250
CREATED:20220208T214643Z
LAST-MODIFIED:20220208T214643Z
UID:336-1646524800-1646611199@countylinehall.com
SUMMARY:Reserved
DESCRIPTION:
URL:https://countylinehall.com/event/reserved-12/
LOCATION:County Line Hall
END:VEVENT
BEGIN:VEVENT
DTSTART;VALUE=DATE:20220312
DTEND;VALUE=DATE:20220313
DTSTAMP:20260421T162250
CREATED:20220128T160203Z
LAST-MODIFIED:20220128T160203Z
UID:318-1647043200-1647129599@countylinehall.com
SUMMARY:Reserved
DESCRIPTION:
URL:https://countylinehall.com/event/reserved-7/
LOCATION:County Line Hall
END:VEVENT
BEGIN:VEVENT
DTSTART;TZID=UTC:20220312T100000
DTEND;TZID=UTC:20220312T170000
DTSTAMP:20260421T162250
CREATED:20220203T175533Z
LAST-MODIFIED:20220203T175533Z
UID:328-1647079200-1647104400@countylinehall.com
SUMMARY:Reserved
DESCRIPTION:
URL:https://countylinehall.com/event/reserved-9/
LOCATION:County Line Hall
END:VEVENT
BEGIN:VEVENT
DTSTART;VALUE=DATE:20220319
DTEND;VALUE=DATE:20220320
DTSTAMP:20260421T162250
CREATED:20220117T144809Z
LAST-MODIFIED:20220117T144809Z
UID:312-1647648000-1647734399@countylinehall.com
SUMMARY:Reserved
DESCRIPTION:
URL:https://countylinehall.com/event/reserved-5/
LOCATION:County Line Hall
END:VEVENT
BEGIN:VEVENT
DTSTART;VALUE=DATE:20220320
DTEND;VALUE=DATE:20220321
DTSTAMP:20260421T162250
CREATED:20220211T191439Z
LAST-MODIFIED:20220211T191439Z
UID:344-1647734400-1647820799@countylinehall.com
SUMMARY:Reserved
DESCRIPTION:
URL:https://countylinehall.com/event/reserved-14/
LOCATION:County Line Hall
END:VEVENT
BEGIN:VEVENT
DTSTART;TZID=UTC:20220326T090000
DTEND;TZID=UTC:20220326T140000
DTSTAMP:20260421T162250
CREATED:20220112T170304Z
LAST-MODIFIED:20220112T170304Z
UID:308-1648285200-1648303200@countylinehall.com
SUMMARY:Indoor Spring Market
DESCRIPTION:
URL:https://countylinehall.com/event/indoor-spring-market/
LOCATION:County Line Hall
END:VEVENT
BEGIN:VEVENT
DTSTART;VALUE=DATE:20220327
DTEND;VALUE=DATE:20220328
DTSTAMP:20260421T162250
CREATED:20211222T162132Z
LAST-MODIFIED:20211222T162132Z
UID:296-1648339200-1648425599@countylinehall.com
SUMMARY:Small Room Reserved
DESCRIPTION:
URL:https://countylinehall.com/event/small-room-reserved-17/
LOCATION:County Line Hall
END:VEVENT
END:VCALENDAR