BEGIN:VCALENDAR
VERSION:2.0
PRODID:-//County Line Hall - ECPv6.15.20//NONSGML v1.0//EN
CALSCALE:GREGORIAN
METHOD:PUBLISH
X-WR-CALNAME:County Line Hall
X-ORIGINAL-URL:https://countylinehall.com
X-WR-CALDESC:Events for County Line Hall
REFRESH-INTERVAL;VALUE=DURATION:PT1H
X-Robots-Tag:noindex
X-PUBLISHED-TTL:PT1H
BEGIN:VTIMEZONE
TZID:UTC
BEGIN:STANDARD
TZOFFSETFROM:+0000
TZOFFSETTO:+0000
TZNAME:UTC
DTSTART:20210101T000000
END:STANDARD
END:VTIMEZONE
BEGIN:VEVENT
DTSTART;VALUE=DATE:20220402
DTEND;VALUE=DATE:20220403
DTSTAMP:20260421T145445
CREATED:20211116T155614Z
LAST-MODIFIED:20211116T155614Z
UID:276-1648857600-1648943999@countylinehall.com
SUMMARY:Large Room Reserved
DESCRIPTION:
URL:https://countylinehall.com/event/large-room-reserved/
LOCATION:County Line Hall
END:VEVENT
BEGIN:VEVENT
DTSTART;VALUE=DATE:20220403
DTEND;VALUE=DATE:20220404
DTSTAMP:20260421T145445
CREATED:20220210T165008Z
LAST-MODIFIED:20220210T165008Z
UID:339-1648944000-1649030399@countylinehall.com
SUMMARY:Reserved
DESCRIPTION:
URL:https://countylinehall.com/event/reserved-13/
LOCATION:County Line Hall
END:VEVENT
BEGIN:VEVENT
DTSTART;VALUE=DATE:20220408
DTEND;VALUE=DATE:20220410
DTSTAMP:20260421T145445
CREATED:20210516T194626Z
LAST-MODIFIED:20220210T165848Z
UID:155-1649376000-1649548799@countylinehall.com
SUMMARY:Reserved--Wedding
DESCRIPTION:
URL:https://countylinehall.com/event/reserved-wedding-4/
LOCATION:County Line Hall
END:VEVENT
BEGIN:VEVENT
DTSTART;VALUE=DATE:20220410
DTEND;VALUE=DATE:20220411
DTSTAMP:20260421T145445
CREATED:20220215T150639Z
LAST-MODIFIED:20220215T150639Z
UID:346-1649548800-1649635199@countylinehall.com
SUMMARY:Reserved
DESCRIPTION:
URL:https://countylinehall.com/event/reserved-15/
LOCATION:County Line Hall
END:VEVENT
BEGIN:VEVENT
DTSTART;TZID=UTC:20220430T090000
DTEND;TZID=UTC:20220430T140000
DTSTAMP:20260421T145445
CREATED:20220131T030146Z
LAST-MODIFIED:20220131T030146Z
UID:321-1651309200-1651327200@countylinehall.com
SUMMARY:Indoor Market
DESCRIPTION:
URL:https://countylinehall.com/event/indoor-market/
LOCATION:County Line Hall
END:VEVENT
END:VCALENDAR