BEGIN:VCALENDAR
VERSION:2.0
PRODID:-//County Line Hall - ECPv6.15.20//NONSGML v1.0//EN
CALSCALE:GREGORIAN
METHOD:PUBLISH
X-ORIGINAL-URL:https://countylinehall.com
X-WR-CALDESC:Events for County Line Hall
REFRESH-INTERVAL;VALUE=DURATION:PT1H
X-Robots-Tag:noindex
X-PUBLISHED-TTL:PT1H
BEGIN:VTIMEZONE
TZID:UTC
BEGIN:STANDARD
TZOFFSETFROM:+0000
TZOFFSETTO:+0000
TZNAME:UTC
DTSTART:20210101T000000
END:STANDARD
END:VTIMEZONE
BEGIN:VEVENT
DTSTART;VALUE=DATE:20220501
DTEND;VALUE=DATE:20220502
DTSTAMP:20260421T132525
CREATED:20220203T220642Z
LAST-MODIFIED:20220203T220642Z
UID:332-1651363200-1651449599@countylinehall.com
SUMMARY:Reserved
DESCRIPTION:
URL:https://countylinehall.com/event/reserved-10/
LOCATION:County Line Hall
END:VEVENT
BEGIN:VEVENT
DTSTART;TZID=UTC:20220511T183000
DTEND;TZID=UTC:20220511T223000
DTSTAMP:20260421T132525
CREATED:20220509T155551Z
LAST-MODIFIED:20220509T155551Z
UID:400-1652293800-1652308200@countylinehall.com
SUMMARY:Reserved
DESCRIPTION:
URL:https://countylinehall.com/event/reserved-30/
LOCATION:County Line Hall
END:VEVENT
BEGIN:VEVENT
DTSTART;TZID=UTC:20220513T160000
DTEND;TZID=UTC:20220513T220000
DTSTAMP:20260421T132525
CREATED:20220509T155626Z
LAST-MODIFIED:20220509T155626Z
UID:402-1652457600-1652479200@countylinehall.com
SUMMARY:Reserved
DESCRIPTION:
URL:https://countylinehall.com/event/reserved-31/
LOCATION:County Line Hall
END:VEVENT
BEGIN:VEVENT
DTSTART;VALUE=DATE:20220515
DTEND;VALUE=DATE:20220516
DTSTAMP:20260421T132525
CREATED:20220318T135851Z
LAST-MODIFIED:20220318T135851Z
UID:366-1652572800-1652659199@countylinehall.com
SUMMARY:Reserved
DESCRIPTION:
URL:https://countylinehall.com/event/reserved-20/
LOCATION:County Line Hall
END:VEVENT
BEGIN:VEVENT
DTSTART;VALUE=DATE:20220516
DTEND;VALUE=DATE:20220517
DTSTAMP:20260421T132525
CREATED:20220407T220308Z
LAST-MODIFIED:20220407T220308Z
UID:380-1652659200-1652745599@countylinehall.com
SUMMARY:Reserved
DESCRIPTION:
URL:https://countylinehall.com/event/reserved-24/
LOCATION:County Line Hall
END:VEVENT
BEGIN:VEVENT
DTSTART;TZID=UTC:20220521T160000
DTEND;TZID=UTC:20220521T220000
DTSTAMP:20260421T132525
CREATED:20220203T175613Z
LAST-MODIFIED:20220203T175613Z
UID:330-1653148800-1653170400@countylinehall.com
SUMMARY:UGHS Prom
DESCRIPTION:
URL:https://countylinehall.com/event/ughs-prom/
LOCATION:County Line Hall
END:VEVENT
BEGIN:VEVENT
DTSTART;TZID=UTC:20220524T160000
DTEND;TZID=UTC:20220524T200000
DTSTAMP:20260421T132525
CREATED:20220509T155338Z
LAST-MODIFIED:20220509T155338Z
UID:398-1653408000-1653422400@countylinehall.com
SUMMARY:Reserved
DESCRIPTION:
URL:https://countylinehall.com/event/reserved-29/
LOCATION:County Line Hall
END:VEVENT
END:VCALENDAR