BEGIN:VCALENDAR
VERSION:2.0
PRODID:-//County Line Hall - ECPv6.15.20//NONSGML v1.0//EN
CALSCALE:GREGORIAN
METHOD:PUBLISH
X-ORIGINAL-URL:https://countylinehall.com
X-WR-CALDESC:Events for County Line Hall
REFRESH-INTERVAL;VALUE=DURATION:PT1H
X-Robots-Tag:noindex
X-PUBLISHED-TTL:PT1H
BEGIN:VTIMEZONE
TZID:UTC
BEGIN:STANDARD
TZOFFSETFROM:+0000
TZOFFSETTO:+0000
TZNAME:UTC
DTSTART:20210101T000000
END:STANDARD
END:VTIMEZONE
BEGIN:VEVENT
DTSTART;TZID=UTC:20220604T090000
DTEND;TZID=UTC:20220604T140000
DTSTAMP:20260421T115240
CREATED:20220131T030224Z
LAST-MODIFIED:20220131T030224Z
UID:323-1654333200-1654351200@countylinehall.com
SUMMARY:Indoor Market
DESCRIPTION:
URL:https://countylinehall.com/event/indoor-market-2/
LOCATION:County Line Hall
END:VEVENT
BEGIN:VEVENT
DTSTART;VALUE=DATE:20220605
DTEND;VALUE=DATE:20220606
DTSTAMP:20260421T115240
CREATED:20220304T171145Z
LAST-MODIFIED:20220304T171145Z
UID:359-1654387200-1654473599@countylinehall.com
SUMMARY:Reserved
DESCRIPTION:
URL:https://countylinehall.com/event/reserved-19/
LOCATION:County Line Hall
END:VEVENT
BEGIN:VEVENT
DTSTART;VALUE=DATE:20220612
DTEND;VALUE=DATE:20220613
DTSTAMP:20260421T115240
CREATED:20220127T192957Z
LAST-MODIFIED:20220127T192957Z
UID:315-1654992000-1655078399@countylinehall.com
SUMMARY:Reserved
DESCRIPTION:
URL:https://countylinehall.com/event/reserved-6/
LOCATION:County Line Hall
END:VEVENT
BEGIN:VEVENT
DTSTART;VALUE=DATE:20220618
DTEND;VALUE=DATE:20220619
DTSTAMP:20260421T115240
CREATED:20220227T135207Z
LAST-MODIFIED:20220227T135207Z
UID:355-1655510400-1655596799@countylinehall.com
SUMMARY:Reserved
DESCRIPTION:
URL:https://countylinehall.com/event/reserved-17/
LOCATION:County Line Hall
END:VEVENT
BEGIN:VEVENT
DTSTART;VALUE=DATE:20220625
DTEND;VALUE=DATE:20220626
DTSTAMP:20260421T115240
CREATED:20220506T011201Z
LAST-MODIFIED:20220506T011201Z
UID:396-1656115200-1656201599@countylinehall.com
SUMMARY:Reserved
DESCRIPTION:
URL:https://countylinehall.com/event/reserved-28/
LOCATION:County Line Hall
END:VEVENT
BEGIN:VEVENT
DTSTART;VALUE=DATE:20220626
DTEND;VALUE=DATE:20220627
DTSTAMP:20260421T115240
CREATED:20220506T003506Z
LAST-MODIFIED:20220506T003506Z
UID:394-1656201600-1656287999@countylinehall.com
SUMMARY:Reserved
DESCRIPTION:
URL:https://countylinehall.com/event/reserved-27/
LOCATION:County Line Hall
END:VEVENT
BEGIN:VEVENT
DTSTART;TZID=UTC:20220629T180000
DTEND;TZID=UTC:20220629T200000
DTSTAMP:20260421T115240
CREATED:20220525T132528Z
LAST-MODIFIED:20220525T132601Z
UID:415-1656525600-1656532800@countylinehall.com
SUMMARY:Cookie Decorating Class with Burgess Baking Company LLC
DESCRIPTION:
URL:https://countylinehall.com/event/cookie-decorating-class/
LOCATION:County Line Hall
END:VEVENT
END:VCALENDAR