BEGIN:VCALENDAR
VERSION:2.0
PRODID:-//County Line Hall - ECPv6.15.20//NONSGML v1.0//EN
CALSCALE:GREGORIAN
METHOD:PUBLISH
X-ORIGINAL-URL:https://countylinehall.com
X-WR-CALDESC:Events for County Line Hall
REFRESH-INTERVAL;VALUE=DURATION:PT1H
X-Robots-Tag:noindex
X-PUBLISHED-TTL:PT1H
BEGIN:VTIMEZONE
TZID:UTC
BEGIN:STANDARD
TZOFFSETFROM:+0000
TZOFFSETTO:+0000
TZNAME:UTC
DTSTART:20210101T000000
END:STANDARD
END:VTIMEZONE
BEGIN:VEVENT
DTSTART;VALUE=DATE:20220703
DTEND;VALUE=DATE:20220704
DTSTAMP:20260421T102425
CREATED:20220227T135044Z
LAST-MODIFIED:20220227T135044Z
UID:353-1656806400-1656892799@countylinehall.com
SUMMARY:Reserved
DESCRIPTION:
URL:https://countylinehall.com/event/reserved-16/
LOCATION:County Line Hall
END:VEVENT
BEGIN:VEVENT
DTSTART;VALUE=DATE:20220709
DTEND;VALUE=DATE:20220710
DTSTAMP:20260421T102425
CREATED:20220329T160653Z
LAST-MODIFIED:20220329T160653Z
UID:374-1657324800-1657411199@countylinehall.com
SUMMARY:Reserved
DESCRIPTION:
URL:https://countylinehall.com/event/reserved-23/
LOCATION:County Line Hall
END:VEVENT
BEGIN:VEVENT
DTSTART;VALUE=DATE:20220716
DTEND;VALUE=DATE:20220717
DTSTAMP:20260421T102425
CREATED:20220228T165259Z
LAST-MODIFIED:20220228T165259Z
UID:357-1657929600-1658015999@countylinehall.com
SUMMARY:Reserved
DESCRIPTION:
URL:https://countylinehall.com/event/reserved-18/
LOCATION:County Line Hall
END:VEVENT
BEGIN:VEVENT
DTSTART;TZID=UTC:20220719T180000
DTEND;TZID=UTC:20220719T200000
DTSTAMP:20260421T102425
CREATED:20220525T132703Z
LAST-MODIFIED:20220525T132703Z
UID:418-1658253600-1658260800@countylinehall.com
SUMMARY:Cookie Decorating Class with Burgess Baking Company LLC
DESCRIPTION:
URL:https://countylinehall.com/event/cookie-decorating-class-with-burgess-baking-company-llc/
LOCATION:County Line Hall
END:VEVENT
BEGIN:VEVENT
DTSTART;TZID=UTC:20220721T063000
DTEND;TZID=UTC:20220721T220000
DTSTAMP:20260421T102425
CREATED:20220509T160023Z
LAST-MODIFIED:20220509T160023Z
UID:404-1658385000-1658440800@countylinehall.com
SUMMARY:Reserved
DESCRIPTION:
URL:https://countylinehall.com/event/reserved-32/
LOCATION:County Line Hall
END:VEVENT
BEGIN:VEVENT
DTSTART;VALUE=DATE:20220722
DTEND;VALUE=DATE:20220724
DTSTAMP:20260421T102425
CREATED:20210516T194712Z
LAST-MODIFIED:20220210T165930Z
UID:157-1658448000-1658620799@countylinehall.com
SUMMARY:Reserved--Wedding
DESCRIPTION:
URL:https://countylinehall.com/event/reserved-wedding-5/
LOCATION:County Line Hall
END:VEVENT
BEGIN:VEVENT
DTSTART;VALUE=DATE:20220724
DTEND;VALUE=DATE:20220725
DTSTAMP:20260421T102425
CREATED:20220502T194109Z
LAST-MODIFIED:20220502T194109Z
UID:388-1658620800-1658707199@countylinehall.com
SUMMARY:Reserved
DESCRIPTION:
URL:https://countylinehall.com/event/reserved-25/
LOCATION:County Line Hall
END:VEVENT
BEGIN:VEVENT
DTSTART;TZID=UTC:20220727T180000
DTEND;TZID=UTC:20220727T200000
DTSTAMP:20260421T102425
CREATED:20220630T172101Z
LAST-MODIFIED:20220630T172613Z
UID:450-1658944800-1658952000@countylinehall.com
SUMMARY:Wreath DIY Design Class with KK Design
DESCRIPTION:
URL:https://countylinehall.com/event/wreath-diy-design-class/
END:VEVENT
BEGIN:VEVENT
DTSTART;VALUE=DATE:20220730
DTEND;VALUE=DATE:20220731
DTSTAMP:20260421T102425
CREATED:20211115T133920Z
LAST-MODIFIED:20211115T133920Z
UID:274-1659139200-1659225599@countylinehall.com
SUMMARY:Small Room Reserved
DESCRIPTION:
URL:https://countylinehall.com/event/small-room-reserved-14/
LOCATION:County Line Hall
END:VEVENT
END:VCALENDAR