BEGIN:VCALENDAR
VERSION:2.0
PRODID:-//County Line Hall - ECPv6.15.20//NONSGML v1.0//EN
CALSCALE:GREGORIAN
METHOD:PUBLISH
X-WR-CALNAME:County Line Hall
X-ORIGINAL-URL:https://countylinehall.com
X-WR-CALDESC:Events for County Line Hall
REFRESH-INTERVAL;VALUE=DURATION:PT1H
X-Robots-Tag:noindex
X-PUBLISHED-TTL:PT1H
BEGIN:VTIMEZONE
TZID:UTC
BEGIN:STANDARD
TZOFFSETFROM:+0000
TZOFFSETTO:+0000
TZNAME:UTC
DTSTART:20210101T000000
END:STANDARD
END:VTIMEZONE
BEGIN:VEVENT
DTSTART;TZID=UTC:20221105T080000
DTEND;TZID=UTC:20221105T150000
DTSTAMP:20260421T033058
CREATED:20220903T143348Z
LAST-MODIFIED:20220903T143348Z
UID:519-1667635200-1667660400@countylinehall.com
SUMMARY:Reserved
DESCRIPTION:
URL:https://countylinehall.com/event/reserved-50/
LOCATION:County Line Hall
END:VEVENT
BEGIN:VEVENT
DTSTART;TZID=UTC:20221105T150000
DTEND;TZID=UTC:20221105T230000
DTSTAMP:20260421T033058
CREATED:20220317T001258Z
LAST-MODIFIED:20220317T001258Z
UID:364-1667660400-1667689200@countylinehall.com
SUMMARY:Kiwanis Fundraiser
DESCRIPTION:
URL:https://countylinehall.com/event/kiwanis-fundraiser-2/
LOCATION:County Line Hall
END:VEVENT
BEGIN:VEVENT
DTSTART;VALUE=DATE:20221106
DTEND;VALUE=DATE:20221107
DTSTAMP:20260421T033058
CREATED:20220713T191322Z
LAST-MODIFIED:20220713T191322Z
UID:456-1667692800-1667779199@countylinehall.com
SUMMARY:Reserved
DESCRIPTION:
URL:https://countylinehall.com/event/reserved-40/
LOCATION:County Line Hall
END:VEVENT
BEGIN:VEVENT
DTSTART;TZID=UTC:20221110T180000
DTEND;TZID=UTC:20221110T200000
DTSTAMP:20260421T033058
CREATED:20220807T190724Z
LAST-MODIFIED:20220807T190724Z
UID:485-1668103200-1668110400@countylinehall.com
SUMMARY:Cookie Decorating Class with Burgess Baking Co.
DESCRIPTION:
URL:https://countylinehall.com/event/cookie-decorating-class-with-burgess-baking-co-3/
LOCATION:County Line Hall
END:VEVENT
BEGIN:VEVENT
DTSTART;TZID=UTC:20221112T080000
DTEND;TZID=UTC:20221112T170000
DTSTAMP:20260421T033058
CREATED:20220204T165229Z
LAST-MODIFIED:20220204T165229Z
UID:334-1668240000-1668272400@countylinehall.com
SUMMARY:Reserved
DESCRIPTION:
URL:https://countylinehall.com/event/reserved-11/
LOCATION:County Line Hall
END:VEVENT
BEGIN:VEVENT
DTSTART;VALUE=DATE:20221113
DTEND;VALUE=DATE:20221114
DTSTAMP:20260421T033058
CREATED:20220610T134732Z
LAST-MODIFIED:20220610T134732Z
UID:438-1668297600-1668383999@countylinehall.com
SUMMARY:Reserved
DESCRIPTION:
URL:https://countylinehall.com/event/reserved-36/
LOCATION:County Line Hall
END:VEVENT
BEGIN:VEVENT
DTSTART;TZID=UTC:20221117T080000
DTEND;TZID=UTC:20221118T170000
DTSTAMP:20260421T033058
CREATED:20220907T002212Z
LAST-MODIFIED:20220907T002212Z
UID:527-1668672000-1668790800@countylinehall.com
SUMMARY:Reserved--Wedding
DESCRIPTION:
URL:https://countylinehall.com/event/reserved-wedding-22/
LOCATION:County Line Hall
END:VEVENT
BEGIN:VEVENT
DTSTART;TZID=UTC:20221119T100000
DTEND;TZID=UTC:20221119T130000
DTSTAMP:20260421T033058
CREATED:20221005T175741Z
LAST-MODIFIED:20221005T175741Z
UID:543-1668852000-1668862800@countylinehall.com
SUMMARY:Barn Quilt Painting Class
DESCRIPTION:
URL:https://countylinehall.com/event/barn-quilt-painting-class/
LOCATION:County Line Hall
END:VEVENT
BEGIN:VEVENT
DTSTART;TZID=UTC:20221119T160000
DTEND;TZID=UTC:20221119T190000
DTSTAMP:20260421T033058
CREATED:20221005T175812Z
LAST-MODIFIED:20221005T175812Z
UID:545-1668873600-1668884400@countylinehall.com
SUMMARY:Barn Quilt Painting Class
DESCRIPTION:
URL:https://countylinehall.com/event/barn-quilt-painting-class-2/
LOCATION:County Line Hall
END:VEVENT
BEGIN:VEVENT
DTSTART;VALUE=DATE:20221120
DTEND;VALUE=DATE:20221121
DTSTAMP:20260421T033058
CREATED:20220804T193017Z
LAST-MODIFIED:20220804T193017Z
UID:477-1668902400-1668988799@countylinehall.com
SUMMARY:Reserved
DESCRIPTION:
URL:https://countylinehall.com/event/reserved-45/
LOCATION:County Line Hall
END:VEVENT
BEGIN:VEVENT
DTSTART;VALUE=DATE:20221126
DTEND;VALUE=DATE:20221127
DTSTAMP:20260421T033058
CREATED:20220906T170809Z
LAST-MODIFIED:20220906T170809Z
UID:523-1669420800-1669507199@countylinehall.com
SUMMARY:Reserved
DESCRIPTION:
URL:https://countylinehall.com/event/reserved-51/
LOCATION:County Line Hall
END:VEVENT
BEGIN:VEVENT
DTSTART;TZID=UTC:20221127T090000
DTEND;TZID=UTC:20221127T130000
DTSTAMP:20260421T033058
CREATED:20221029T142944Z
LAST-MODIFIED:20221029T142944Z
UID:557-1669539600-1669554000@countylinehall.com
SUMMARY:Indoor Farmers Market
DESCRIPTION:
URL:https://countylinehall.com/event/indoor-farmers-market/
LOCATION:County Line Hall
END:VEVENT
BEGIN:VEVENT
DTSTART;TZID=UTC:20221130T180000
DTEND;TZID=UTC:20221130T203000
DTSTAMP:20260421T033058
CREATED:20220824T155017Z
LAST-MODIFIED:20220824T155017Z
UID:512-1669831200-1669840200@countylinehall.com
SUMMARY:DIY Wreath Class with KK Designs
DESCRIPTION:
URL:https://countylinehall.com/event/diy-wreath-class-with-kk-designs-4/
LOCATION:County Line Hall
END:VEVENT
END:VCALENDAR