BEGIN:VCALENDAR
VERSION:2.0
PRODID:-//County Line Hall - ECPv6.15.20//NONSGML v1.0//EN
CALSCALE:GREGORIAN
METHOD:PUBLISH
X-ORIGINAL-URL:https://countylinehall.com
X-WR-CALDESC:Events for County Line Hall
REFRESH-INTERVAL;VALUE=DURATION:PT1H
X-Robots-Tag:noindex
X-PUBLISHED-TTL:PT1H
BEGIN:VTIMEZONE
TZID:UTC
BEGIN:STANDARD
TZOFFSETFROM:+0000
TZOFFSETTO:+0000
TZNAME:UTC
DTSTART:20210101T000000
END:STANDARD
END:VTIMEZONE
BEGIN:VEVENT
DTSTART;TZID=UTC:20221225T080000
DTEND;TZID=UTC:20230101T170000
DTSTAMP:20260420T235121
CREATED:20221005T175902Z
LAST-MODIFIED:20221005T175902Z
UID:547-1671955200-1672592400@countylinehall.com
SUMMARY:Reserved
DESCRIPTION:
URL:https://countylinehall.com/event/reserved-56/
LOCATION:County Line Hall
END:VEVENT
BEGIN:VEVENT
DTSTART;VALUE=DATE:20230107
DTEND;VALUE=DATE:20230108
DTSTAMP:20260420T235121
CREATED:20221130T150312Z
LAST-MODIFIED:20221130T150312Z
UID:611-1673049600-1673135999@countylinehall.com
SUMMARY:Reserved
DESCRIPTION:
URL:https://countylinehall.com/event/reserved-62/
LOCATION:County Line Hall
END:VEVENT
BEGIN:VEVENT
DTSTART;VALUE=DATE:20230108
DTEND;VALUE=DATE:20230109
DTSTAMP:20260420T235121
CREATED:20221130T150330Z
LAST-MODIFIED:20221130T150330Z
UID:613-1673136000-1673222399@countylinehall.com
SUMMARY:Reserved
DESCRIPTION:
URL:https://countylinehall.com/event/reserved-63/
LOCATION:County Line Hall
END:VEVENT
BEGIN:VEVENT
DTSTART;TZID=UTC:20230110T180000
DTEND;TZID=UTC:20230110T200000
DTSTAMP:20260420T235121
CREATED:20230110T184550Z
LAST-MODIFIED:20230110T184550Z
UID:649-1673373600-1673380800@countylinehall.com
SUMMARY:Cookie Decorating Class with Burgess Baking Co.
DESCRIPTION:
URL:https://countylinehall.com/event/cookie-decorating-class-with-burgess-baking-co-7/
LOCATION:County Line Hall
END:VEVENT
BEGIN:VEVENT
DTSTART;TZID=UTC:20230114T120000
DTEND;TZID=UTC:20230114T200000
DTSTAMP:20260420T235121
CREATED:20220210T165110Z
LAST-MODIFIED:20220210T165110Z
UID:341-1673697600-1673726400@countylinehall.com
SUMMARY:YFA Bags Tournament
DESCRIPTION:
URL:https://countylinehall.com/event/yfa-bags-tournament-2/
LOCATION:County Line Hall
END:VEVENT
BEGIN:VEVENT
DTSTART;TZID=UTC:20230115T090000
DTEND;TZID=UTC:20230115T130000
DTSTAMP:20260420T235121
CREATED:20221029T143133Z
LAST-MODIFIED:20221029T143133Z
UID:561-1673773200-1673787600@countylinehall.com
SUMMARY:Indoor Farmers Market
DESCRIPTION:
URL:https://countylinehall.com/event/indoor-farmers-market-3/
LOCATION:County Line Hall
END:VEVENT
BEGIN:VEVENT
DTSTART;TZID=UTC:20230120T180000
DTEND;TZID=UTC:20230120T200000
DTSTAMP:20260420T235121
CREATED:20230105T134744Z
LAST-MODIFIED:20230105T134744Z
UID:642-1674237600-1674244800@countylinehall.com
SUMMARY:Cookie Decorating Class with Burgess Baking Co.
DESCRIPTION:
URL:https://countylinehall.com/event/cookie-decorating-class-with-burgess-baking-co-6/
LOCATION:County Line Hall
END:VEVENT
BEGIN:VEVENT
DTSTART;VALUE=DATE:20230121
DTEND;VALUE=DATE:20230122
DTSTAMP:20260420T235121
CREATED:20221116T142903Z
LAST-MODIFIED:20221116T142903Z
UID:597-1674259200-1674345599@countylinehall.com
SUMMARY:Reserved
DESCRIPTION:
URL:https://countylinehall.com/event/reserved-58/
LOCATION:County Line Hall
END:VEVENT
BEGIN:VEVENT
DTSTART;TZID=UTC:20230122T080000
DTEND;TZID=UTC:20230129T170000
DTSTAMP:20260420T235121
CREATED:20220808T015847Z
LAST-MODIFIED:20221011T151054Z
UID:491-1674374400-1675011600@countylinehall.com
SUMMARY:Reserved
DESCRIPTION:
URL:https://countylinehall.com/event/reserved-47/
LOCATION:County Line Hall
END:VEVENT
BEGIN:VEVENT
DTSTART;VALUE=DATE:20230128
DTEND;VALUE=DATE:20230129
DTSTAMP:20260420T235121
CREATED:20221005T175633Z
LAST-MODIFIED:20221005T175633Z
UID:541-1674864000-1674950399@countylinehall.com
SUMMARY:Reserved
DESCRIPTION:
URL:https://countylinehall.com/event/reserved-55/
LOCATION:County Line Hall
END:VEVENT
END:VCALENDAR