BEGIN:VCALENDAR
VERSION:2.0
PRODID:-//County Line Hall - ECPv6.15.20//NONSGML v1.0//EN
CALSCALE:GREGORIAN
METHOD:PUBLISH
X-WR-CALNAME:County Line Hall
X-ORIGINAL-URL:https://countylinehall.com
X-WR-CALDESC:Events for County Line Hall
REFRESH-INTERVAL;VALUE=DURATION:PT1H
X-Robots-Tag:noindex
X-PUBLISHED-TTL:PT1H
BEGIN:VTIMEZONE
TZID:UTC
BEGIN:STANDARD
TZOFFSETFROM:+0000
TZOFFSETTO:+0000
TZNAME:UTC
DTSTART:20220101T000000
END:STANDARD
END:VTIMEZONE
BEGIN:VEVENT
DTSTART;VALUE=DATE:20230204
DTEND;VALUE=DATE:20230205
DTSTAMP:20260420T220131
CREATED:20220721T134329Z
LAST-MODIFIED:20221014T173333Z
UID:463-1675468800-1675555199@countylinehall.com
SUMMARY:Reserved
DESCRIPTION:
URL:https://countylinehall.com/event/reserved-41/
LOCATION:County Line Hall
END:VEVENT
BEGIN:VEVENT
DTSTART;TZID=UTC:20230205T090000
DTEND;TZID=UTC:20230205T130000
DTSTAMP:20260420T220131
CREATED:20221029T143358Z
LAST-MODIFIED:20221029T143358Z
UID:563-1675587600-1675602000@countylinehall.com
SUMMARY:Indoor Farmers Market
DESCRIPTION:
URL:https://countylinehall.com/event/indoor-farmers-market-4/
LOCATION:County Line Hall
END:VEVENT
BEGIN:VEVENT
DTSTART;VALUE=DATE:20230211
DTEND;VALUE=DATE:20230212
DTSTAMP:20260420T220131
CREATED:20221215T130238Z
LAST-MODIFIED:20221215T130238Z
UID:625-1676073600-1676159999@countylinehall.com
SUMMARY:Reserved
DESCRIPTION:
URL:https://countylinehall.com/event/reserved-66/
LOCATION:County Line Hall
END:VEVENT
BEGIN:VEVENT
DTSTART;VALUE=DATE:20230212
DTEND;VALUE=DATE:20230213
DTSTAMP:20260420T220131
CREATED:20230118T132016Z
LAST-MODIFIED:20230118T132016Z
UID:658-1676160000-1676246399@countylinehall.com
SUMMARY:Reserved
DESCRIPTION:
URL:https://countylinehall.com/event/reserved-77/
LOCATION:County Line Hall
END:VEVENT
BEGIN:VEVENT
DTSTART;TZID=UTC:20230213T180000
DTEND;TZID=UTC:20230213T200000
DTSTAMP:20260420T220131
CREATED:20230128T132459Z
LAST-MODIFIED:20230128T132459Z
UID:673-1676311200-1676318400@countylinehall.com
SUMMARY:Flower workshop with Buttercup Bouquets
DESCRIPTION:
URL:https://countylinehall.com/event/flower-workshop-with-buttercup-bouquets/
END:VEVENT
BEGIN:VEVENT
DTSTART;VALUE=DATE:20230218
DTEND;VALUE=DATE:20230219
DTSTAMP:20260420T220131
CREATED:20230113T135949Z
LAST-MODIFIED:20230113T135949Z
UID:652-1676678400-1676764799@countylinehall.com
SUMMARY:Reserved
DESCRIPTION:
URL:https://countylinehall.com/event/reserved-74/
LOCATION:County Line Hall
END:VEVENT
BEGIN:VEVENT
DTSTART;TZID=UTC:20230219T090000
DTEND;TZID=UTC:20230219T130000
DTSTAMP:20260420T220131
CREATED:20221029T143434Z
LAST-MODIFIED:20221029T143434Z
UID:565-1676797200-1676811600@countylinehall.com
SUMMARY:Indoor Farmers Market
DESCRIPTION:
URL:https://countylinehall.com/event/indoor-farmers-market-5/
LOCATION:County Line Hall
END:VEVENT
BEGIN:VEVENT
DTSTART;TZID=UTC:20230224T080000
DTEND;TZID=UTC:20230225T170000
DTSTAMP:20260420T220131
CREATED:20230127T122420Z
LAST-MODIFIED:20230127T122420Z
UID:663-1677225600-1677344400@countylinehall.com
SUMMARY:Reserved
DESCRIPTION:
URL:https://countylinehall.com/event/reserved-78/
LOCATION:County Line Hall
END:VEVENT
END:VCALENDAR