BEGIN:VCALENDAR
VERSION:2.0
PRODID:-//County Line Hall - ECPv6.15.20//NONSGML v1.0//EN
CALSCALE:GREGORIAN
METHOD:PUBLISH
X-ORIGINAL-URL:https://countylinehall.com
X-WR-CALDESC:Events for County Line Hall
REFRESH-INTERVAL;VALUE=DURATION:PT1H
X-Robots-Tag:noindex
X-PUBLISHED-TTL:PT1H
BEGIN:VTIMEZONE
TZID:UTC
BEGIN:STANDARD
TZOFFSETFROM:+0000
TZOFFSETTO:+0000
TZNAME:UTC
DTSTART:20220101T000000
END:STANDARD
END:VTIMEZONE
BEGIN:VEVENT
DTSTART;TZID=UTC:20230401T090000
DTEND;TZID=UTC:20230401T140000
DTSTAMP:20260420T183522
CREATED:20230104T143430Z
LAST-MODIFIED:20230104T143430Z
UID:638-1680339600-1680357600@countylinehall.com
SUMMARY:Indoor Spring Market
DESCRIPTION:
URL:https://countylinehall.com/event/indoor-spring-market-2/
LOCATION:County Line Hall
END:VEVENT
BEGIN:VEVENT
DTSTART;VALUE=DATE:20230402
DTEND;VALUE=DATE:20230403
DTSTAMP:20260420T183522
CREATED:20230105T012652Z
LAST-MODIFIED:20230105T012652Z
UID:640-1680393600-1680479999@countylinehall.com
SUMMARY:Reserved
DESCRIPTION:
URL:https://countylinehall.com/event/reserved-71/
LOCATION:County Line Hall
END:VEVENT
BEGIN:VEVENT
DTSTART;VALUE=DATE:20230408
DTEND;VALUE=DATE:20230409
DTSTAMP:20260420T183522
CREATED:20230208T204821Z
LAST-MODIFIED:20230208T204821Z
UID:689-1680912000-1680998399@countylinehall.com
SUMMARY:Reserved
DESCRIPTION:
URL:https://countylinehall.com/event/reserved-84/
LOCATION:County Line Hall
END:VEVENT
BEGIN:VEVENT
DTSTART;VALUE=DATE:20230415
DTEND;VALUE=DATE:20230416
DTSTAMP:20260420T183522
CREATED:20221117T003529Z
LAST-MODIFIED:20221117T003529Z
UID:603-1681516800-1681603199@countylinehall.com
SUMMARY:Reserved
DESCRIPTION:
URL:https://countylinehall.com/event/reserved-59/
LOCATION:County Line Hall
END:VEVENT
BEGIN:VEVENT
DTSTART;TZID=UTC:20230416T090000
DTEND;TZID=UTC:20230416T130000
DTSTAMP:20260420T183522
CREATED:20221029T143703Z
LAST-MODIFIED:20221029T143703Z
UID:571-1681635600-1681650000@countylinehall.com
SUMMARY:Indoor Farmers Market
DESCRIPTION:
URL:https://countylinehall.com/event/indoor-farmers-market-8/
LOCATION:County Line Hall
END:VEVENT
BEGIN:VEVENT
DTSTART;TZID=UTC:20230420T170000
DTEND;TZID=UTC:20230420T190000
DTSTAMP:20260420T183522
CREATED:20230128T131154Z
LAST-MODIFIED:20230128T131154Z
UID:667-1682010000-1682017200@countylinehall.com
SUMMARY:Freedom Firearms Conceal and Carry Class
DESCRIPTION:
URL:https://countylinehall.com/event/freedom-firearms-conceal-and-carry-class-2/
LOCATION:County Line Hall
END:VEVENT
BEGIN:VEVENT
DTSTART;TZID=UTC:20230421T150000
DTEND;TZID=UTC:20230421T200000
DTSTAMP:20260420T183522
CREATED:20230128T131227Z
LAST-MODIFIED:20230128T131227Z
UID:669-1682089200-1682107200@countylinehall.com
SUMMARY:Freedom Firearms Gun Show
DESCRIPTION:
URL:https://countylinehall.com/event/freedom-firearms-gun-show-5/
LOCATION:County Line Hall
END:VEVENT
BEGIN:VEVENT
DTSTART;TZID=UTC:20230422T080000
DTEND;TZID=UTC:20230422T150000
DTSTAMP:20260420T183522
CREATED:20230128T131301Z
LAST-MODIFIED:20230128T131301Z
UID:671-1682150400-1682175600@countylinehall.com
SUMMARY:Freedom Firearms Gun Show
DESCRIPTION:
URL:https://countylinehall.com/event/freedom-firearms-gun-show-6/
LOCATION:County Line Hall
END:VEVENT
BEGIN:VEVENT
DTSTART;VALUE=DATE:20230423
DTEND;VALUE=DATE:20230424
DTSTAMP:20260420T183522
CREATED:20230206T142916Z
LAST-MODIFIED:20230206T142916Z
UID:683-1682208000-1682294399@countylinehall.com
SUMMARY:Reserved
DESCRIPTION:
URL:https://countylinehall.com/event/reserved-82/
LOCATION:County Line Hall
END:VEVENT
BEGIN:VEVENT
DTSTART;VALUE=DATE:20230429
DTEND;VALUE=DATE:20230430
DTSTAMP:20260420T183522
CREATED:20221214T145523Z
LAST-MODIFIED:20221214T145523Z
UID:621-1682726400-1682812799@countylinehall.com
SUMMARY:Reserved
DESCRIPTION:
URL:https://countylinehall.com/event/reserved-64/
LOCATION:County Line Hall
END:VEVENT
BEGIN:VEVENT
DTSTART;TZID=UTC:20230430T090000
DTEND;TZID=UTC:20230430T130000
DTSTAMP:20260420T183522
CREATED:20221029T143759Z
LAST-MODIFIED:20221029T143759Z
UID:573-1682845200-1682859600@countylinehall.com
SUMMARY:Indoor Farmers Market
DESCRIPTION:
URL:https://countylinehall.com/event/indoor-farmers-market-9/
LOCATION:County Line Hall
END:VEVENT
END:VCALENDAR