BEGIN:VCALENDAR
VERSION:2.0
PRODID:-//County Line Hall - ECPv6.15.20//NONSGML v1.0//EN
CALSCALE:GREGORIAN
METHOD:PUBLISH
X-WR-CALNAME:County Line Hall
X-ORIGINAL-URL:https://countylinehall.com
X-WR-CALDESC:Events for County Line Hall
REFRESH-INTERVAL;VALUE=DURATION:PT1H
X-Robots-Tag:noindex
X-PUBLISHED-TTL:PT1H
BEGIN:VTIMEZONE
TZID:UTC
BEGIN:STANDARD
TZOFFSETFROM:+0000
TZOFFSETTO:+0000
TZNAME:UTC
DTSTART:20220101T000000
END:STANDARD
END:VTIMEZONE
BEGIN:VEVENT
DTSTART;TZID=UTC:20230901T080000
DTEND;TZID=UTC:20230902T170000
DTSTAMP:20260420T101453
CREATED:20220407T220240Z
LAST-MODIFIED:20220407T220240Z
UID:378-1693555200-1693674000@countylinehall.com
SUMMARY:Reserved--Wedding
DESCRIPTION:
URL:https://countylinehall.com/event/reserved-wedding-13/
LOCATION:County Line Hall
END:VEVENT
BEGIN:VEVENT
DTSTART;TZID=UTC:20230903T080000
DTEND;TZID=UTC:20230904T170000
DTSTAMP:20260420T101453
CREATED:20220809T230047Z
LAST-MODIFIED:20220809T230047Z
UID:493-1693728000-1693846800@countylinehall.com
SUMMARY:Reserved
DESCRIPTION:
URL:https://countylinehall.com/event/reserved-48/
LOCATION:County Line Hall
END:VEVENT
BEGIN:VEVENT
DTSTART;TZID=UTC:20230908T080000
DTEND;TZID=UTC:20230909T170000
DTSTAMP:20260420T101453
CREATED:20220816T185411Z
LAST-MODIFIED:20220816T185411Z
UID:500-1694160000-1694278800@countylinehall.com
SUMMARY:Reserved--Wedding
DESCRIPTION:
URL:https://countylinehall.com/event/reserved-wedding-17/
LOCATION:County Line Hall
END:VEVENT
BEGIN:VEVENT
DTSTART;VALUE=DATE:20230910
DTEND;VALUE=DATE:20230911
DTSTAMP:20260420T101453
CREATED:20230406T130049Z
LAST-MODIFIED:20230406T130049Z
UID:736-1694304000-1694390399@countylinehall.com
SUMMARY:Reserved
DESCRIPTION:
URL:https://countylinehall.com/event/reserved-98/
LOCATION:County Line Hall
END:VEVENT
BEGIN:VEVENT
DTSTART;TZID=UTC:20230915T080000
DTEND;TZID=UTC:20230917T170000
DTSTAMP:20260420T101453
CREATED:20230102T174122Z
LAST-MODIFIED:20230102T174122Z
UID:634-1694764800-1694970000@countylinehall.com
SUMMARY:Reserved
DESCRIPTION:
URL:https://countylinehall.com/event/reserved-69/
LOCATION:County Line Hall
END:VEVENT
BEGIN:VEVENT
DTSTART;VALUE=DATE:20230921
DTEND;VALUE=DATE:20230922
DTSTAMP:20260420T101453
CREATED:20230921T232148Z
LAST-MODIFIED:20230921T232148Z
UID:828-1695254400-1695340799@countylinehall.com
SUMMARY:Reserved
DESCRIPTION:
URL:https://countylinehall.com/event/reserved-105/
LOCATION:County Line Hall
END:VEVENT
BEGIN:VEVENT
DTSTART;VALUE=DATE:20230922
DTEND;VALUE=DATE:20230924
DTSTAMP:20260420T101453
CREATED:20220218T222856Z
LAST-MODIFIED:20220218T222856Z
UID:350-1695340800-1695513599@countylinehall.com
SUMMARY:Reserved--Wedding
DESCRIPTION:
URL:https://countylinehall.com/event/reserved-wedding-12/
LOCATION:County Line Hall
END:VEVENT
BEGIN:VEVENT
DTSTART;VALUE=DATE:20230924
DTEND;VALUE=DATE:20230925
DTSTAMP:20260420T101453
CREATED:20230626T122454Z
LAST-MODIFIED:20230626T122454Z
UID:768-1695513600-1695599999@countylinehall.com
SUMMARY:Reserved
DESCRIPTION:
URL:https://countylinehall.com/event/reserved-104/
LOCATION:County Line Hall
END:VEVENT
BEGIN:VEVENT
DTSTART;TZID=UTC:20230929T080000
DTEND;TZID=UTC:20230930T170000
DTSTAMP:20260420T101453
CREATED:20220721T135140Z
LAST-MODIFIED:20220721T135140Z
UID:467-1695974400-1696093200@countylinehall.com
SUMMARY:Reserved--Wedding
DESCRIPTION:
URL:https://countylinehall.com/event/reserved-wedding-14/
LOCATION:County Line Hall
END:VEVENT
END:VCALENDAR