BEGIN:VCALENDAR
VERSION:2.0
PRODID:-//County Line Hall - ECPv6.15.20//NONSGML v1.0//EN
CALSCALE:GREGORIAN
METHOD:PUBLISH
X-WR-CALNAME:County Line Hall
X-ORIGINAL-URL:https://countylinehall.com
X-WR-CALDESC:Events for County Line Hall
REFRESH-INTERVAL;VALUE=DURATION:PT1H
X-Robots-Tag:noindex
X-PUBLISHED-TTL:PT1H
BEGIN:VTIMEZONE
TZID:UTC
BEGIN:STANDARD
TZOFFSETFROM:+0000
TZOFFSETTO:+0000
TZNAME:UTC
DTSTART:20220101T000000
END:STANDARD
END:VTIMEZONE
BEGIN:VEVENT
DTSTART;VALUE=DATE:20231001
DTEND;VALUE=DATE:20231002
DTSTAMP:20260420T084025
CREATED:20230713T221238Z
LAST-MODIFIED:20230713T221238Z
UID:779-1696118400-1696204799@countylinehall.com
SUMMARY:Reserved
DESCRIPTION:
URL:https://countylinehall.com/event/reserved-85/
LOCATION:County Line Hall
END:VEVENT
BEGIN:VEVENT
DTSTART;TZID=UTC:20231006T080000
DTEND;TZID=UTC:20231007T170000
DTSTAMP:20260420T084025
CREATED:20220825T154333Z
LAST-MODIFIED:20220825T154333Z
UID:514-1696579200-1696698000@countylinehall.com
SUMMARY:Reserved-- Wedding
DESCRIPTION:
URL:https://countylinehall.com/event/reserved-wedding-21/
LOCATION:County Line Hall
END:VEVENT
BEGIN:VEVENT
DTSTART;VALUE=DATE:20231008
DTEND;VALUE=DATE:20231009
DTSTAMP:20260420T084025
CREATED:20230814T125144Z
LAST-MODIFIED:20230814T125144Z
UID:817-1696723200-1696809599@countylinehall.com
SUMMARY:Reserved
DESCRIPTION:
URL:https://countylinehall.com/event/reserved-119/
LOCATION:County Line Hall
END:VEVENT
BEGIN:VEVENT
DTSTART;TZID=UTC:20231013T080000
DTEND;TZID=UTC:20231014T170000
DTSTAMP:20260420T084025
CREATED:20220824T141325Z
LAST-MODIFIED:20220824T141325Z
UID:506-1697184000-1697302800@countylinehall.com
SUMMARY:Reserved--Wedding
DESCRIPTION:
URL:https://countylinehall.com/event/reserved-wedding-20/
LOCATION:County Line Hall
END:VEVENT
BEGIN:VEVENT
DTSTART;TZID=UTC:20231021T090000
DTEND;TZID=UTC:20231021T150000
DTSTAMP:20260420T084025
CREATED:20220809T230201Z
LAST-MODIFIED:20220809T230201Z
UID:495-1697878800-1697900400@countylinehall.com
SUMMARY:Fall Indoor Market
DESCRIPTION:
URL:https://countylinehall.com/event/fall-indoor-market/
LOCATION:County Line Hall
END:VEVENT
BEGIN:VEVENT
DTSTART;VALUE=DATE:20231022
DTEND;VALUE=DATE:20231023
DTSTAMP:20260420T084025
CREATED:20230720T151421Z
LAST-MODIFIED:20230720T151421Z
UID:787-1697932800-1698019199@countylinehall.com
SUMMARY:Reserved
DESCRIPTION:
URL:https://countylinehall.com/event/reserved-109/
LOCATION:County Line Hall
END:VEVENT
BEGIN:VEVENT
DTSTART;VALUE=DATE:20231028
DTEND;VALUE=DATE:20231029
DTSTAMP:20260420T084025
CREATED:20221017T125541Z
LAST-MODIFIED:20221017T125541Z
UID:552-1698451200-1698537599@countylinehall.com
SUMMARY:Reserved--Wedding
DESCRIPTION:
URL:https://countylinehall.com/event/reserved-wedding-23/
LOCATION:County Line Hall
END:VEVENT
END:VCALENDAR