BEGIN:VCALENDAR
VERSION:2.0
PRODID:-//County Line Hall - ECPv6.15.20//NONSGML v1.0//EN
CALSCALE:GREGORIAN
METHOD:PUBLISH
X-WR-CALNAME:County Line Hall
X-ORIGINAL-URL:https://countylinehall.com
X-WR-CALDESC:Events for County Line Hall
REFRESH-INTERVAL;VALUE=DURATION:PT1H
X-Robots-Tag:noindex
X-PUBLISHED-TTL:PT1H
BEGIN:VTIMEZONE
TZID:UTC
BEGIN:STANDARD
TZOFFSETFROM:+0000
TZOFFSETTO:+0000
TZNAME:UTC
DTSTART:20220101T000000
END:STANDARD
END:VTIMEZONE
BEGIN:VEVENT
DTSTART;TZID=UTC:20231202T090000
DTEND;TZID=UTC:20231202T140000
DTSTAMP:20260420T051015
CREATED:20220809T230246Z
LAST-MODIFIED:20220809T230246Z
UID:497-1701507600-1701525600@countylinehall.com
SUMMARY:Winter Indoor Market
DESCRIPTION:
URL:https://countylinehall.com/event/winter-indoor-market/
LOCATION:County Line Hall
END:VEVENT
BEGIN:VEVENT
DTSTART;VALUE=DATE:20231203
DTEND;VALUE=DATE:20231204
DTSTAMP:20260420T051015
CREATED:20230815T170308Z
LAST-MODIFIED:20230815T170308Z
UID:823-1701561600-1701647999@countylinehall.com
SUMMARY:Reserved
DESCRIPTION:
URL:https://countylinehall.com/event/reserved-121/
LOCATION:County Line Hall
END:VEVENT
BEGIN:VEVENT
DTSTART;VALUE=DATE:20231208
DTEND;VALUE=DATE:20231209
DTSTAMP:20260420T051015
CREATED:20231031T121338Z
LAST-MODIFIED:20231031T121338Z
UID:854-1701993600-1702079999@countylinehall.com
SUMMARY:Reserved
DESCRIPTION:
URL:https://countylinehall.com/event/reserved-129/
LOCATION:County Line Hall
END:VEVENT
BEGIN:VEVENT
DTSTART;VALUE=DATE:20231209
DTEND;VALUE=DATE:20231210
DTSTAMP:20260420T051015
CREATED:20230726T013506Z
LAST-MODIFIED:20230726T013506Z
UID:797-1702080000-1702166399@countylinehall.com
SUMMARY:Reserved
DESCRIPTION:
URL:https://countylinehall.com/event/reserved-114/
LOCATION:County Line Hall
END:VEVENT
BEGIN:VEVENT
DTSTART;TZID=UTC:20231214T163000
DTEND;TZID=UTC:20231214T183000
DTSTAMP:20260420T051015
CREATED:20231109T191513Z
LAST-MODIFIED:20231109T191513Z
UID:866-1702571400-1702578600@countylinehall.com
SUMMARY:Chamber of Commerce Holiday Gathering
DESCRIPTION:
URL:https://countylinehall.com/event/chamber-of-commerce-holiday-gathering/
LOCATION:County Line Hall
END:VEVENT
BEGIN:VEVENT
DTSTART;TZID=UTC:20231215T080000
DTEND;TZID=UTC:20231215T170000
DTSTAMP:20260420T051015
CREATED:20230808T121456Z
LAST-MODIFIED:20230808T121456Z
UID:807-1702627200-1702659600@countylinehall.com
SUMMARY:Freedom Firearms Gun Show
DESCRIPTION:
URL:https://countylinehall.com/event/freedom-firearms-gun-show-7/
LOCATION:County Line Hall
END:VEVENT
BEGIN:VEVENT
DTSTART;TZID=UTC:20231216T080000
DTEND;TZID=UTC:20231216T150000
DTSTAMP:20260420T051015
CREATED:20230808T121550Z
LAST-MODIFIED:20230808T121550Z
UID:809-1702713600-1702738800@countylinehall.com
SUMMARY:Freedom Firearms Gun Show
DESCRIPTION:
URL:https://countylinehall.com/event/freedom-firearms-gun-show-8/
LOCATION:County Line Hall
END:VEVENT
BEGIN:VEVENT
DTSTART;VALUE=DATE:20231217
DTEND;VALUE=DATE:20231218
DTSTAMP:20260420T051015
CREATED:20230921T232526Z
LAST-MODIFIED:20230921T232526Z
UID:832-1702771200-1702857599@countylinehall.com
SUMMARY:Reserved
DESCRIPTION:
URL:https://countylinehall.com/event/reserved-122/
LOCATION:County Line Hall
END:VEVENT
BEGIN:VEVENT
DTSTART;VALUE=DATE:20231224
DTEND;VALUE=DATE:20231225
DTSTAMP:20260420T051015
CREATED:20230724T174947Z
LAST-MODIFIED:20230724T174947Z
UID:793-1703376000-1703462399@countylinehall.com
SUMMARY:Reserved
DESCRIPTION:
URL:https://countylinehall.com/event/reserved-112/
LOCATION:County Line Hall
END:VEVENT
BEGIN:VEVENT
DTSTART;VALUE=DATE:20231231
DTEND;VALUE=DATE:20240101
DTSTAMP:20260420T051015
CREATED:20230724T175018Z
LAST-MODIFIED:20230724T175018Z
UID:795-1703980800-1704067199@countylinehall.com
SUMMARY:Reserved
DESCRIPTION:
URL:https://countylinehall.com/event/reserved-113/
LOCATION:County Line Hall
END:VEVENT
END:VCALENDAR