BEGIN:VCALENDAR
VERSION:2.0
PRODID:-//County Line Hall - ECPv6.15.20//NONSGML v1.0//EN
CALSCALE:GREGORIAN
METHOD:PUBLISH
X-ORIGINAL-URL:https://countylinehall.com
X-WR-CALDESC:Events for County Line Hall
REFRESH-INTERVAL;VALUE=DURATION:PT1H
X-Robots-Tag:noindex
X-PUBLISHED-TTL:PT1H
BEGIN:VTIMEZONE
TZID:UTC
BEGIN:STANDARD
TZOFFSETFROM:+0000
TZOFFSETTO:+0000
TZNAME:UTC
DTSTART:20230101T000000
END:STANDARD
END:VTIMEZONE
BEGIN:VEVENT
DTSTART;VALUE=DATE:20240106
DTEND;VALUE=DATE:20240107
DTSTAMP:20260420T033416
CREATED:20230131T141645Z
LAST-MODIFIED:20230131T141645Z
UID:680-1704499200-1704585599@countylinehall.com
SUMMARY:Reserved
DESCRIPTION:
URL:https://countylinehall.com/event/reserved-81/
LOCATION:County Line Hall
END:VEVENT
BEGIN:VEVENT
DTSTART;VALUE=DATE:20240107
DTEND;VALUE=DATE:20240108
DTSTAMP:20260420T033416
CREATED:20231102T004101Z
LAST-MODIFIED:20231102T004101Z
UID:858-1704585600-1704671999@countylinehall.com
SUMMARY:Reserved
DESCRIPTION:
URL:https://countylinehall.com/event/reserved-131/
END:VEVENT
BEGIN:VEVENT
DTSTART;VALUE=DATE:20240113
DTEND;VALUE=DATE:20240114
DTSTAMP:20260420T033416
CREATED:20230130T125228Z
LAST-MODIFIED:20230130T125228Z
UID:676-1705104000-1705190399@countylinehall.com
SUMMARY:YFA 3rd Annual Bags Tournament
DESCRIPTION:
URL:https://countylinehall.com/event/yfa-3rd-annual-bags-tournament/
LOCATION:County Line Hall
END:VEVENT
BEGIN:VEVENT
DTSTART;VALUE=DATE:20240114
DTEND;VALUE=DATE:20240115
DTSTAMP:20260420T033416
CREATED:20231101T184635Z
LAST-MODIFIED:20231101T184635Z
UID:856-1705190400-1705276799@countylinehall.com
SUMMARY:Reserved
DESCRIPTION:
URL:https://countylinehall.com/event/reserved-130/
LOCATION:County Line Hall
END:VEVENT
BEGIN:VEVENT
DTSTART;TZID=UTC:20240119T080000
DTEND;TZID=UTC:20240120T170000
DTSTAMP:20260420T033416
CREATED:20220820T143336Z
LAST-MODIFIED:20220820T143336Z
UID:502-1705651200-1705770000@countylinehall.com
SUMMARY:Reserved--Wedding
DESCRIPTION:
URL:https://countylinehall.com/event/reserved-wedding-18/
LOCATION:County Line Hall
END:VEVENT
BEGIN:VEVENT
DTSTART;TZID=UTC:20240121T080000
DTEND;TZID=UTC:20240128T170000
DTSTAMP:20260420T033416
CREATED:20221223T133042Z
LAST-MODIFIED:20221223T133042Z
UID:631-1705824000-1706461200@countylinehall.com
SUMMARY:Reserved
DESCRIPTION:
URL:https://countylinehall.com/event/reserved-68/
LOCATION:County Line Hall
END:VEVENT
END:VCALENDAR