BEGIN:VCALENDAR
VERSION:2.0
PRODID:-//County Line Hall - ECPv6.15.20//NONSGML v1.0//EN
CALSCALE:GREGORIAN
METHOD:PUBLISH
X-WR-CALNAME:County Line Hall
X-ORIGINAL-URL:https://countylinehall.com
X-WR-CALDESC:Events for County Line Hall
REFRESH-INTERVAL;VALUE=DURATION:PT1H
X-Robots-Tag:noindex
X-PUBLISHED-TTL:PT1H
BEGIN:VTIMEZONE
TZID:UTC
BEGIN:STANDARD
TZOFFSETFROM:+0000
TZOFFSETTO:+0000
TZNAME:UTC
DTSTART:20230101T000000
END:STANDARD
END:VTIMEZONE
BEGIN:VEVENT
DTSTART;VALUE=DATE:20240302
DTEND;VALUE=DATE:20240303
DTSTAMP:20260420T000944
CREATED:20230724T002945Z
LAST-MODIFIED:20230724T002945Z
UID:791-1709337600-1709423999@countylinehall.com
SUMMARY:Reserved
DESCRIPTION:
URL:https://countylinehall.com/event/reserved-111/
LOCATION:County Line Hall
END:VEVENT
BEGIN:VEVENT
DTSTART;TZID=UTC:20240303T080000
DTEND;TZID=UTC:20240317T170000
DTSTAMP:20260420T000944
CREATED:20231103T115109Z
LAST-MODIFIED:20231103T115109Z
UID:863-1709452800-1710694800@countylinehall.com
SUMMARY:Reserved
DESCRIPTION:
URL:https://countylinehall.com/event/reserved-133/
LOCATION:County Line Hall
END:VEVENT
BEGIN:VEVENT
DTSTART;VALUE=DATE:20240316
DTEND;VALUE=DATE:20240317
DTSTAMP:20260420T000944
CREATED:20230727T120915Z
LAST-MODIFIED:20230727T120915Z
UID:799-1710547200-1710633599@countylinehall.com
SUMMARY:Reserved
DESCRIPTION:
URL:https://countylinehall.com/event/reserved-115/
LOCATION:County Line Hall
END:VEVENT
BEGIN:VEVENT
DTSTART;VALUE=DATE:20240323
DTEND;VALUE=DATE:20240324
DTSTAMP:20260420T000944
CREATED:20231103T114818Z
LAST-MODIFIED:20231103T114818Z
UID:860-1711152000-1711238399@countylinehall.com
SUMMARY:Reserved
DESCRIPTION:
URL:https://countylinehall.com/event/reserved-132/
END:VEVENT
BEGIN:VEVENT
DTSTART;VALUE=DATE:20240324
DTEND;VALUE=DATE:20240325
DTSTAMP:20260420T000944
CREATED:20230928T225754Z
LAST-MODIFIED:20230928T225754Z
UID:841-1711238400-1711324799@countylinehall.com
SUMMARY:Reserved
DESCRIPTION:
URL:https://countylinehall.com/event/reserved-126/
LOCATION:County Line Hall
END:VEVENT
BEGIN:VEVENT
DTSTART;VALUE=DATE:20240331
DTEND;VALUE=DATE:20240401
DTSTAMP:20260420T000944
CREATED:20230814T125345Z
LAST-MODIFIED:20230814T125345Z
UID:819-1711843200-1711929599@countylinehall.com
SUMMARY:Easter
DESCRIPTION:
URL:https://countylinehall.com/event/easter/
LOCATION:County Line Hall
END:VEVENT
END:VCALENDAR