BEGIN:VCALENDAR
VERSION:2.0
PRODID:-//County Line Hall - ECPv6.15.20//NONSGML v1.0//EN
CALSCALE:GREGORIAN
METHOD:PUBLISH
X-ORIGINAL-URL:https://countylinehall.com
X-WR-CALDESC:Events for County Line Hall
REFRESH-INTERVAL;VALUE=DURATION:PT1H
X-Robots-Tag:noindex
X-PUBLISHED-TTL:PT1H
BEGIN:VTIMEZONE
TZID:UTC
BEGIN:STANDARD
TZOFFSETFROM:+0000
TZOFFSETTO:+0000
TZNAME:UTC
DTSTART:20230101T000000
END:STANDARD
END:VTIMEZONE
BEGIN:VEVENT
DTSTART;VALUE=DATE:20240601
DTEND;VALUE=DATE:20240602
DTSTAMP:20260419T192900
CREATED:20240401T223105Z
LAST-MODIFIED:20240401T223105Z
UID:969-1717200000-1717286399@countylinehall.com
SUMMARY:Reserved
DESCRIPTION:
URL:https://countylinehall.com/event/reserved-157/
LOCATION:County Line Hall
END:VEVENT
BEGIN:VEVENT
DTSTART;VALUE=DATE:20240602
DTEND;VALUE=DATE:20240603
DTSTAMP:20260419T192900
CREATED:20240215T134749Z
LAST-MODIFIED:20240215T134749Z
UID:942-1717286400-1717372799@countylinehall.com
SUMMARY:Reserved
DESCRIPTION:
URL:https://countylinehall.com/event/reserved-152/
LOCATION:County Line Hall
END:VEVENT
BEGIN:VEVENT
DTSTART;VALUE=DATE:20240608
DTEND;VALUE=DATE:20240609
DTSTAMP:20260419T192900
CREATED:20230626T121902Z
LAST-MODIFIED:20230626T121902Z
UID:766-1717804800-1717891199@countylinehall.com
SUMMARY:Reserved
DESCRIPTION:
URL:https://countylinehall.com/event/reserved-103/
LOCATION:County Line Hall
END:VEVENT
BEGIN:VEVENT
DTSTART;VALUE=DATE:20240609
DTEND;VALUE=DATE:20240610
DTSTAMP:20260419T192900
CREATED:20230720T151242Z
LAST-MODIFIED:20230720T151242Z
UID:785-1717891200-1717977599@countylinehall.com
SUMMARY:Reserved
DESCRIPTION:
URL:https://countylinehall.com/event/reserved-108/
LOCATION:County Line Hall
END:VEVENT
BEGIN:VEVENT
DTSTART;VALUE=DATE:20240615
DTEND;VALUE=DATE:20240616
DTSTAMP:20260419T192900
CREATED:20240409T124403Z
LAST-MODIFIED:20240409T124403Z
UID:975-1718409600-1718495999@countylinehall.com
SUMMARY:Reserved
DESCRIPTION:
URL:https://countylinehall.com/event/reserved-158/
LOCATION:County Line Hall
END:VEVENT
BEGIN:VEVENT
DTSTART;VALUE=DATE:20240616
DTEND;VALUE=DATE:20240617
DTSTAMP:20260419T192900
CREATED:20230808T122210Z
LAST-MODIFIED:20230808T122210Z
UID:813-1718496000-1718582399@countylinehall.com
SUMMARY:Reserved
DESCRIPTION:
URL:https://countylinehall.com/event/reserved-117/
LOCATION:County Line Hall
END:VEVENT
BEGIN:VEVENT
DTSTART;VALUE=DATE:20240621
DTEND;VALUE=DATE:20240622
DTSTAMP:20260419T192900
CREATED:20240413T193340Z
LAST-MODIFIED:20240413T193340Z
UID:981-1718928000-1719014399@countylinehall.com
SUMMARY:Reserved
DESCRIPTION:
URL:https://countylinehall.com/event/reserved-160/
LOCATION:County Line Hall
END:VEVENT
BEGIN:VEVENT
DTSTART;VALUE=DATE:20240622
DTEND;VALUE=DATE:20240623
DTSTAMP:20260419T192900
CREATED:20240123T160440Z
LAST-MODIFIED:20240123T160440Z
UID:922-1719014400-1719100799@countylinehall.com
SUMMARY:Reserved
DESCRIPTION:
URL:https://countylinehall.com/event/reserved-147/
LOCATION:County Line Hall
END:VEVENT
BEGIN:VEVENT
DTSTART;VALUE=DATE:20240623
DTEND;VALUE=DATE:20240624
DTSTAMP:20260419T192900
CREATED:20240118T132700Z
LAST-MODIFIED:20240118T132700Z
UID:915-1719100800-1719187199@countylinehall.com
SUMMARY:Reserved
DESCRIPTION:
URL:https://countylinehall.com/event/reserved-144/
LOCATION:County Line Hall
END:VEVENT
BEGIN:VEVENT
DTSTART;TZID=UTC:20240628T080000
DTEND;TZID=UTC:20240629T170000
DTSTAMP:20260419T192900
CREATED:20230618T131516Z
LAST-MODIFIED:20230618T131516Z
UID:760-1719561600-1719680400@countylinehall.com
SUMMARY:Reserved-- Wedding
DESCRIPTION:
URL:https://countylinehall.com/event/reserved-wedding-28/
END:VEVENT
BEGIN:VEVENT
DTSTART;VALUE=DATE:20240630
DTEND;VALUE=DATE:20240701
DTSTAMP:20260419T192900
CREATED:20240605T132404Z
LAST-MODIFIED:20240605T132404Z
UID:1045-1719705600-1719791999@countylinehall.com
SUMMARY:Reserved
DESCRIPTION:
URL:https://countylinehall.com/event/reserved-174/
LOCATION:County Line Hall
END:VEVENT
END:VCALENDAR