BEGIN:VCALENDAR
VERSION:2.0
PRODID:-//County Line Hall - ECPv6.15.20//NONSGML v1.0//EN
CALSCALE:GREGORIAN
METHOD:PUBLISH
X-WR-CALNAME:County Line Hall
X-ORIGINAL-URL:https://countylinehall.com
X-WR-CALDESC:Events for County Line Hall
REFRESH-INTERVAL;VALUE=DURATION:PT1H
X-Robots-Tag:noindex
X-PUBLISHED-TTL:PT1H
BEGIN:VTIMEZONE
TZID:UTC
BEGIN:STANDARD
TZOFFSETFROM:+0000
TZOFFSETTO:+0000
TZNAME:UTC
DTSTART:20250101T000000
END:STANDARD
END:VTIMEZONE
BEGIN:VEVENT
DTSTART;TZID=UTC:20261003T090000
DTEND;TZID=UTC:20261003T140000
DTSTAMP:20260419T130040
CREATED:20260223T152042Z
LAST-MODIFIED:20260223T152042Z
UID:1576-1791018000-1791036000@countylinehall.com
SUMMARY:Indoor Fall Market
DESCRIPTION:
URL:https://countylinehall.com/event/indoor-fall-market-2/
LOCATION:County Line Hall
END:VEVENT
BEGIN:VEVENT
DTSTART;TZID=UTC:20261009T080000
DTEND;TZID=UTC:20261010T170000
DTSTAMP:20260419T130040
CREATED:20250714T185710Z
LAST-MODIFIED:20250714T185710Z
UID:1426-1791532800-1791651600@countylinehall.com
SUMMARY:Reserved-- Wedding
DESCRIPTION:
URL:https://countylinehall.com/event/reserved-wedding-52/
LOCATION:County Line Hall
END:VEVENT
BEGIN:VEVENT
DTSTART;TZID=UTC:20261016T080000
DTEND;TZID=UTC:20261017T170000
DTSTAMP:20260419T130040
CREATED:20251001T123356Z
LAST-MODIFIED:20251001T123356Z
UID:1500-1792137600-1792256400@countylinehall.com
SUMMARY:Reserved--Wedding
DESCRIPTION:
URL:https://countylinehall.com/event/reserved-wedding-56/
LOCATION:County Line Hall
END:VEVENT
BEGIN:VEVENT
DTSTART;TZID=UTC:20261023T080000
DTEND;TZID=UTC:20261024T170000
DTSTAMP:20260419T130040
CREATED:20251024T132112Z
LAST-MODIFIED:20251024T132112Z
UID:1516-1792742400-1792861200@countylinehall.com
SUMMARY:Reserved-- Wedding
DESCRIPTION:
URL:https://countylinehall.com/event/reserved-wedding-57/
LOCATION:County Line Hall
END:VEVENT
BEGIN:VEVENT
DTSTART;TZID=UTC:20261029T080000
DTEND;TZID=UTC:20261030T170000
DTSTAMP:20260419T130040
CREATED:20251127T142918Z
LAST-MODIFIED:20251127T142918Z
UID:1530-1793260800-1793379600@countylinehall.com
SUMMARY:Reserved
DESCRIPTION:
URL:https://countylinehall.com/event/reserved-299/
LOCATION:County Line Hall
END:VEVENT
END:VCALENDAR