BEGIN:VCALENDAR
VERSION:2.0
PRODID:-//County Line Hall - ECPv6.15.20//NONSGML v1.0//EN
CALSCALE:GREGORIAN
METHOD:PUBLISH
X-ORIGINAL-URL:https://countylinehall.com
X-WR-CALDESC:Events for County Line Hall
REFRESH-INTERVAL;VALUE=DURATION:PT1H
X-Robots-Tag:noindex
X-PUBLISHED-TTL:PT1H
BEGIN:VTIMEZONE
TZID:UTC
BEGIN:STANDARD
TZOFFSETFROM:+0000
TZOFFSETTO:+0000
TZNAME:UTC
DTSTART:20250101T000000
END:STANDARD
END:VTIMEZONE
BEGIN:VEVENT
DTSTART;TZID=UTC:20261106T080000
DTEND;TZID=UTC:20261107T170000
DTSTAMP:20260419T142903
CREATED:20241125T171512Z
LAST-MODIFIED:20241125T171512Z
UID:1211-1793952000-1794070800@countylinehall.com
SUMMARY:Reserved-- Wedding
DESCRIPTION:
URL:https://countylinehall.com/event/reserved-wedding-47/
LOCATION:County Line Hall
END:VEVENT
BEGIN:VEVENT
DTSTART;VALUE=DATE:20261114
DTEND;VALUE=DATE:20261115
DTSTAMP:20260419T142903
CREATED:20251127T143430Z
LAST-MODIFIED:20251127T143430Z
UID:1532-1794614400-1794700799@countylinehall.com
SUMMARY:Kiwanis Fundraiser Dinner
DESCRIPTION:
URL:https://countylinehall.com/event/kiwanis-fundraiser-dinner-3/
LOCATION:County Line Hall
END:VEVENT
BEGIN:VEVENT
DTSTART;VALUE=DATE:20261115
DTEND;VALUE=DATE:20261116
DTSTAMP:20260419T142903
CREATED:20260327T155836Z
LAST-MODIFIED:20260327T155836Z
UID:1596-1794700800-1794787199@countylinehall.com
SUMMARY:Reserved
DESCRIPTION:
URL:https://countylinehall.com/event/reserved-318/
LOCATION:County Line Hall
END:VEVENT
BEGIN:VEVENT
DTSTART;VALUE=DATE:20261122
DTEND;VALUE=DATE:20261123
DTSTAMP:20260419T142903
CREATED:20260223T152132Z
LAST-MODIFIED:20260223T152132Z
UID:1578-1795305600-1795391999@countylinehall.com
SUMMARY:Reserved
DESCRIPTION:
URL:https://countylinehall.com/event/reserved-313/
LOCATION:County Line Hall
END:VEVENT
END:VCALENDAR