BEGIN:VCALENDAR
VERSION:2.0
PRODID:-//County Line Hall - ECPv6.15.20//NONSGML v1.0//EN
CALSCALE:GREGORIAN
METHOD:PUBLISH
X-WR-CALNAME:County Line Hall
X-ORIGINAL-URL:https://countylinehall.com
X-WR-CALDESC:Events for County Line Hall
REFRESH-INTERVAL;VALUE=DURATION:PT1H
X-Robots-Tag:noindex
X-PUBLISHED-TTL:PT1H
BEGIN:VTIMEZONE
TZID:UTC
BEGIN:STANDARD
TZOFFSETFROM:+0000
TZOFFSETTO:+0000
TZNAME:UTC
DTSTART:20250101T000000
END:STANDARD
END:VTIMEZONE
BEGIN:VEVENT
DTSTART;TZID=UTC:20261205T090000
DTEND;TZID=UTC:20261205T140000
DTSTAMP:20260419T160804
CREATED:20260223T152509Z
LAST-MODIFIED:20260223T152509Z
UID:1582-1796461200-1796479200@countylinehall.com
SUMMARY:Indoor Winter Market
DESCRIPTION:
URL:https://countylinehall.com/event/indoor-winter-market-5/
LOCATION:County Line Hall
END:VEVENT
BEGIN:VEVENT
DTSTART;TZID=UTC:20261211T080000
DTEND;TZID=UTC:20261211T170000
DTSTAMP:20260419T160804
CREATED:20260223T152604Z
LAST-MODIFIED:20260223T152604Z
UID:1584-1796976000-1797008400@countylinehall.com
SUMMARY:Reserved-- Wind Lake Drifters Snowmobile Club
DESCRIPTION:
URL:https://countylinehall.com/event/reserved-wind-lake-drifters-snowmobile-club/
END:VEVENT
BEGIN:VEVENT
DTSTART;TZID=UTC:20261218T080000
DTEND;TZID=UTC:20261219T170000
DTSTAMP:20260419T160804
CREATED:20260223T152640Z
LAST-MODIFIED:20260223T152640Z
UID:1586-1797580800-1797699600@countylinehall.com
SUMMARY:Reserved Gun Show
DESCRIPTION:
URL:https://countylinehall.com/event/reserved-gun-show/
LOCATION:County Line Hall
END:VEVENT
BEGIN:VEVENT
DTSTART;VALUE=DATE:20261220
DTEND;VALUE=DATE:20261221
DTSTAMP:20260419T160804
CREATED:20260327T155331Z
LAST-MODIFIED:20260327T155331Z
UID:1592-1797724800-1797811199@countylinehall.com
SUMMARY:Reserved
DESCRIPTION:
URL:https://countylinehall.com/event/reserved-316/
LOCATION:County Line Hall
END:VEVENT
END:VCALENDAR